BEGIN:VCALENDAR
VERSION:2.0
PRODID:-//pretix//pretix.eu//
BEGIN:VTIMEZONE
TZID:Europe/Berlin
BEGIN:STANDARD
DTSTART:20001029T040000
RRULE:FREQ=YEARLY;BYDAY=-1SU;BYMONTH=10
TZNAME:CET
TZOFFSETFROM:+0200
TZOFFSETTO:+0100
END:STANDARD
BEGIN:DAYLIGHT
DTSTART:20000326T030000
RRULE:FREQ=YEARLY;BYDAY=-1SU;BYMONTH=3
TZNAME:CEST
TZOFFSETFROM:+0100
TZOFFSETTO:+0200
END:DAYLIGHT
END:VTIMEZONE
BEGIN:VEVENT
UID:pretix-schiedsrichter-trier-saarburg-schiedsrichtermannschaft-4665295@s
 chiedsrichter-trier-saarburg.vereinsticket.de
DTSTART;TZID=Europe/Berlin:20250906T150000
DTEND;TZID=Europe/Berlin:20250906T160000
DESCRIPTION:Tickets: https://schiedsrichter-trier-saarburg.vereinsticket.de
 /schiedsrichtermannschaft/4665295/\nVeranstalter: Schiedsrichtervereinigun
 g Trier-Saarburg 1919
DTSTAMP:20260425T225743Z
LOCATION:Am Stadion 1\, Am Stadion\, 54329 Konz
SUMMARY:Beispieltermin
END:VEVENT
END:VCALENDAR
